BEGIN:VCALENDAR
PRODID:-//eluceo/ical//2.0/EN
VERSION:2.0
CALSCALE:GREGORIAN
BEGIN:VEVENT
UID:d67674c4971520bc2dd512e078041a77
DTSTAMP:20260423T161837Z
SUMMARY:PJ Library Bagels and Books and Thanksgiving with Congregation Beth
  Israel
DESCRIPTION:Jewish Federation of Central Massachusetts\nCalendar\nhttps://j
 ewishcentralmass.org/calendar/pj-library-bagels-and-books-and-thanksgiving
 -with-congregation-beth-israel\n\nPJ Library Bagels and Books and Thanksgi
 ving with Congregation Beth Israel\n\n11/27 10:00-12:00 in Beth Israel Lib
 rary
DTSTART;TZID=America/New_York:20221127T100000
DTEND;TZID=America/New_York:20221127T120000
END:VEVENT
END:VCALENDAR
