BEGIN:VCALENDAR
PRODID:-//eluceo/ical//2.0/EN
VERSION:2.0
CALSCALE:GREGORIAN
BEGIN:VEVENT
UID:867ebb3b126eff491cb456486c6f58b9
DTSTAMP:20260420T223143Z
SUMMARY:PJ Library Bagels and Books and Spring with Congregation Beth Israe
 l
DESCRIPTION:Jewish Federation of Central Massachusetts\nCalendar\nhttps://j
 ewishcentralmass.org/calendar/pj-library-bagels-and-books-and-spring-with-
 congregation-beth-israel\n\nPJ Library Bagels and Books and Spring with Co
 ngregation Beth Israel \n\n3/19 10-noon in Beth Israel Library
DTSTART;TZID=America/New_York:20230319T100000
DTEND;TZID=America/New_York:20230319T120000
END:VEVENT
END:VCALENDAR
