BEGIN:VCALENDAR
PRODID:-//eluceo/ical//2.0/EN
VERSION:2.0
CALSCALE:GREGORIAN
BEGIN:VEVENT
UID:3427e24caa5c5adbe101dcebda1512c2
DTSTAMP:20260421T233022Z
SUMMARY:PJ Library Bagels and Books and Latkes with Congregation Beth Israe
 l
DESCRIPTION:Jewish Federation of Central Massachusetts\nCalendar\nhttps://j
 ewishcentralmass.org/calendar/pj-library-bagels-and-books-and-latkes-with-
 congregation-beth-israel\n\nPJ Library Bagels and Books and Latkes with Co
 ngregation Beth Israel \n\n12/18 noon-2:00 in Beth Israel Library
DTSTART;TZID=America/New_York:20221218T100000
DTEND;TZID=America/New_York:20221218T120000
END:VEVENT
END:VCALENDAR
