BEGIN:VCALENDAR
PRODID:-//eluceo/ical//2.0/EN
VERSION:2.0
CALSCALE:GREGORIAN
BEGIN:VEVENT
UID:28034434d0e4e5f40dbb381c548d08d6
DTSTAMP:20260423T072620Z
SUMMARY:PJ Library at Splashpad
DESCRIPTION:Jewish Federation of Central Massachusetts\nCalendar\nhttps://j
 ewishcentralmass.org/calendar/pj-library-at-splashpad\n\nJoin PJ Library 
 at Philbin Memorial Park Splashpad in Clinton\, MA.\n10:00 am
DTSTART;TZID=America/New_York:20230827T100000
DTEND;TZID=America/New_York:20230827T120000
END:VEVENT
END:VCALENDAR
