BEGIN:VCALENDAR
PRODID:-//eluceo/ical//2.0/EN
VERSION:2.0
CALSCALE:GREGORIAN
BEGIN:VEVENT
UID:7b033d0affebe238f2bf36d1c100c9e9
DTSTAMP:20260422T030126Z
SUMMARY:PJ Library at BI: Joint Sukkot
DESCRIPTION:Jewish Federation of Central Massachusetts\nCalendar\nhttps://j
 ewishcentralmass.org/calendar/pj-library-at-bi-joint-sukkot\n\nPJ Library 
 at BI: Joint Sukkot\n\n10:30 am
DTSTART;TZID=America/New_York:20241020T103000
DTEND;TZID=America/New_York:20241020T123000
END:VEVENT
END:VCALENDAR
