BEGIN:VCALENDAR
PRODID:-//eluceo/ical//2.0/EN
VERSION:2.0
CALSCALE:GREGORIAN
BEGIN:VEVENT
UID:62dc84e7b7f1f8d18182c427c866dd0a
DTSTAMP:20260421T100123Z
SUMMARY:PJ Library Aleph Bet Yoga
DESCRIPTION:Jewish Federation of Central Massachusetts\nCalendar\nhttps://j
 ewishcentralmass.org/calendar/pj-library-aleph-bet-yoga\n\nPJ Library Alep
 h Bet Yoga\n\nNovember 5th at 3:00 pm
DTSTART;TZID=America/New_York:20231105T150000
DTEND;TZID=America/New_York:20231105T170000
END:VEVENT
END:VCALENDAR
