BEGIN:VCALENDAR
PRODID:-//eluceo/ical//2.0/EN
VERSION:2.0
CALSCALE:GREGORIAN
BEGIN:VEVENT
UID:5afd2209a8135f03d2c3bd4d5e1be8e6
DTSTAMP:20260425T201039Z
SUMMARY:PJ Library 2023 Vendor/Craft Fair
DESCRIPTION:Jewish Federation of Central Massachusetts\nCalendar\nhttps://j
 ewishcentralmass.org/calendar/pj-library-2023-vendorcraft-fair\n\nPJ Libra
 ry 2023 Vendor/Craft Fair\n\n9:00 - 2:00 pm
DTSTART;TZID=America/New_York:20230312T090000
DTEND;TZID=America/New_York:20230312T140000
END:VEVENT
END:VCALENDAR
