BEGIN:VCALENDAR
PRODID:-//eluceo/ical//2.0/EN
VERSION:2.0
CALSCALE:GREGORIAN
BEGIN:VEVENT
UID:7fb379c8f8fe5f35fcb77f4d428236dd
DTSTAMP:20260423T041656Z
SUMMARY:PJ Library 10 Year Celebration
DESCRIPTION:Jewish Federation of Central Massachusetts\nCalendar\nhttps://j
 ewishcentralmass.org/calendar/pj-library-10-year-celebration\n\nCome and c
 elebrate PJ Library's 10th Birthday on Sunday\, December 16th\, 2018.
DTSTART;TZID=America/New_York:20181216T140000
DTEND;TZID=America/New_York:20181216T180000
END:VEVENT
END:VCALENDAR
