BEGIN:VCALENDAR
PRODID:-//eluceo/ical//2.0/EN
VERSION:2.0
CALSCALE:GREGORIAN
BEGIN:VEVENT
UID:1479ee6f5d27987aba93f35cecc96e4b
DTSTAMP:20260424T031115Z
SUMMARY:PJ Havdalah 2022
DESCRIPTION:Jewish Federation of Central Massachusetts\nCalendar\nhttps://j
 ewishcentralmass.org/calendar/pj-havdalah-2022\n\nPJ Havdalah\n\nCBS at 4:
 30 pm
DTSTART;TZID=America/New_York:20220521T163000
DTEND;TZID=America/New_York:20220521T183000
END:VEVENT
END:VCALENDAR
