BEGIN:VCALENDAR
PRODID:-//eluceo/ical//2.0/EN
VERSION:2.0
CALSCALE:GREGORIAN
BEGIN:VEVENT
UID:f0c23721f4be692210d30605c79fd44c
DTSTAMP:20260422T235107Z
SUMMARY:PJ Hanukkah Event 2024
DESCRIPTION:Jewish Federation of Central Massachusetts\nCalendar\nhttps://j
 ewishcentralmass.org/calendar/pj-hanukkah-event-2024\n\nPJ Hanukkah Event\
 n\n2:30 - 5:00 pm
DTSTART;TZID=America/New_York:20241215T143000
DTEND;TZID=America/New_York:20241215T170000
END:VEVENT
END:VCALENDAR
