BEGIN:VCALENDAR
PRODID:-//eluceo/ical//2.0/EN
VERSION:2.0
CALSCALE:GREGORIAN
BEGIN:VEVENT
UID:2986db7da024a470c9e7ad4932bd1340
DTSTAMP:20260422T124445Z
SUMMARY:PJ Family Seder at CAA
DESCRIPTION:Jewish Federation of Central Massachusetts\nCalendar\nhttps://j
 ewishcentralmass.org/calendar/pj-family-seder-at-caa\n\nPJ Family Seder at
  CAA\n\n5:30 pm
DTSTART;TZID=America/New_York:20250413T173000
DTEND;TZID=America/New_York:20250413T193000
END:VEVENT
END:VCALENDAR
