BEGIN:VCALENDAR
PRODID:-//eluceo/ical//2.0/EN
VERSION:2.0
CALSCALE:GREGORIAN
BEGIN:VEVENT
UID:2a276b37a807b96b538b2cef0f0021a1
DTSTAMP:20260423T123849Z
SUMMARY:Patrick Motors JHC Road Race 2018
DESCRIPTION:Jewish Federation of Central Massachusetts\nCalendar\nhttps://j
 ewishcentralmass.org/calendar/patrick-motors-jhc-road-race-2018\n\nSave th
 e date:\n\nSept. 23\, 2018 for Patrick Motors JHC Road Race
DTSTART;TZID=America/New_York:20180923T090000
DTEND;TZID=America/New_York:20180923T110000
END:VEVENT
END:VCALENDAR
