BEGIN:VCALENDAR
PRODID:-//eluceo/ical//2.0/EN
VERSION:2.0
CALSCALE:GREGORIAN
BEGIN:VEVENT
UID:07552f2612b6bfa4420a98e440b5bc34
DTSTAMP:20260424T015334Z
SUMMARY:Past Young Emissary\, Lidor David - Beth Israel’s Members Togethe
 r program
DESCRIPTION:Jewish Federation of Central Massachusetts\nCalendar\nhttps://j
 ewishcentralmass.org/calendar/past-young-emissary-lidor-david\n\nSunday\, 
 February 7th at 9:00am   Past Young Emissary\, Lidor David (2010-201) s
 peaker for Beth Israel’s Members Together program.
DTSTART;TZID=America/New_York:20210207T090000
DTEND;TZID=America/New_York:20210207T110000
END:VEVENT
END:VCALENDAR
