BEGIN:VCALENDAR
PRODID:-//eluceo/ical//2.0/EN
VERSION:2.0
CALSCALE:GREGORIAN
BEGIN:VEVENT
UID:ffc7ea104f73499ba52fd27127e6f002
DTSTAMP:20260422T024744Z
SUMMARY:Past Young Emissary Aviv Laitman Grossar Zoom session on Purim
DESCRIPTION:Jewish Federation of Central Massachusetts\nCalendar\nhttps://j
 ewishcentralmass.org/calendar/past-young-emissary-aviv-laitman-grossar-zoo
 m-session-on-purim\n\nSaturday\, February 20th 12:00pm -1:00pm:  Past You
 ng Emissary Aviv Laitman Grossar Zoom session on Purim.
DTSTART;TZID=America/New_York:20210220T120000
DTEND;TZID=America/New_York:20210220T130000
END:VEVENT
END:VCALENDAR
