BEGIN:VCALENDAR
PRODID:-//eluceo/ical//2.0/EN
VERSION:2.0
CALSCALE:GREGORIAN
BEGIN:VEVENT
UID:26581408d166e000ad7eb424c7a7ac00
DTSTAMP:20260423T232545Z
SUMMARY:Passover Drive thru 2023
DESCRIPTION:Jewish Federation of Central Massachusetts\nCalendar\nhttps://j
 ewishcentralmass.org/calendar/passover-drive-thru-2023\n\nTuesday\, April 
 4\, 5:30\, Passover Drive thru 
DTSTART;TZID=America/New_York:20230404T173000
DTEND;TZID=America/New_York:20230404T193000
END:VEVENT
END:VCALENDAR
