BEGIN:VCALENDAR
PRODID:-//eluceo/ical//2.0/EN
VERSION:2.0
CALSCALE:GREGORIAN
BEGIN:VEVENT
UID:9cb148d283c2463cd081ebbe9f6f6844
DTSTAMP:20260424T091548Z
SUMMARY:Passover 5785
DESCRIPTION:Jewish Federation of Central Massachusetts\nCalendar\nhttps://j
 ewishcentralmass.org/calendar/passover-5785\n\nPassover 5785
DTSTART;TZID=America/New_York:20250412T180000
DTEND;TZID=America/New_York:20250420T200000
END:VEVENT
END:VCALENDAR
