BEGIN:VCALENDAR
PRODID:-//eluceo/ical//2.0/EN
VERSION:2.0
CALSCALE:GREGORIAN
BEGIN:VEVENT
UID:220dd08faa86aed0390c5e58ff9a651e
DTSTAMP:20260424T214503Z
SUMMARY:Passover 2024
DESCRIPTION:Jewish Federation of Central Massachusetts\nCalendar\nhttps://j
 ewishcentralmass.org/calendar/passover-2024\n\nPassover 2024
DTSTART;TZID=America/New_York:20240422T191500
DTEND;TZID=America/New_York:20240430T203000
END:VEVENT
END:VCALENDAR
