BEGIN:VCALENDAR
PRODID:-//eluceo/ical//2.0/EN
VERSION:2.0
CALSCALE:GREGORIAN
BEGIN:VEVENT
UID:9276f04385fe09914bff54751144aa0c
DTSTAMP:20260422T182902Z
SUMMARY:PASSOVER
DESCRIPTION:Jewish Federation of Central Massachusetts\nCalendar\nhttps://j
 ewishcentralmass.org/calendar/passover\n\nPASSOVER
DTSTART;TZID=America/New_York:20130326T000000
DTEND;TZID=America/New_York:20130327T235900
END:VEVENT
END:VCALENDAR
