BEGIN:VCALENDAR
PRODID:-//eluceo/ical//2.0/EN
VERSION:2.0
CALSCALE:GREGORIAN
BEGIN:VEVENT
UID:2ce075ded168f3c265758a7e643dfd3a
DTSTAMP:20260422T094657Z
SUMMARY:Pardes School Committee Meeting
DESCRIPTION:Jewish Federation of Central Massachusetts\nCalendar\nhttps://j
 ewishcentralmass.org/calendar/pardes-school-committee-meeting77\n\nPardes 
 School Comm Meeting
DTSTART;TZID=America/New_York:20150408T191500
DTEND;TZID=America/New_York:20150408T210000
END:VEVENT
END:VCALENDAR
