BEGIN:VCALENDAR
PRODID:-//eluceo/ical//2.0/EN
VERSION:2.0
CALSCALE:GREGORIAN
BEGIN:VEVENT
UID:37591767580bd9eab4494315eef2e87d
DTSTAMP:20260423T062247Z
SUMMARY:Pardes School Committee Meeting
DESCRIPTION:Jewish Federation of Central Massachusetts\nCalendar\nhttps://j
 ewishcentralmass.org/calendar/pardes-school-committee-meeting\n\nPardes Sc
 hool Comm
DTSTART;TZID=America/New_York:20130801T191500
DTEND;TZID=America/New_York:20130801T194500
END:VEVENT
END:VCALENDAR
