BEGIN:VCALENDAR
PRODID:-//eluceo/ical//2.0/EN
VERSION:2.0
CALSCALE:GREGORIAN
BEGIN:VEVENT
UID:f5b5ea2ebda649618df2ce390f21639f
DTSTAMP:20260423T185912Z
SUMMARY:Pardes Open House
DESCRIPTION:Jewish Federation of Central Massachusetts\nCalendar\nhttps://j
 ewishcentralmass.org/calendar/pardes-open-house\n\nPardes Open House
DTSTART;TZID=America/New_York:20131016T160000
DTEND;TZID=America/New_York:20131016T190000
END:VEVENT
END:VCALENDAR
