BEGIN:VCALENDAR
PRODID:-//eluceo/ical//2.0/EN
VERSION:2.0
CALSCALE:GREGORIAN
BEGIN:VEVENT
UID:373e11bc1979951f1268a30fb3d80b33
DTSTAMP:20260422T164352Z
SUMMARY:Pardes Last Day of Hebrew School
DESCRIPTION:Jewish Federation of Central Massachusetts\nCalendar\nhttps://j
 ewishcentralmass.org/calendar/pardes-last-day-of-hebrew-school\n\nPardes L
 ast Day of Hebrew School
DTSTART;TZID=America/New_York:20140521T000000
DTEND;TZID=America/New_York:20140521T235900
END:VEVENT
END:VCALENDAR
