BEGIN:VCALENDAR
PRODID:-//eluceo/ical//2.0/EN
VERSION:2.0
CALSCALE:GREGORIAN
BEGIN:VEVENT
UID:f1aadc40deef92d49deced0235bbb1b3
DTSTAMP:20260422T182327Z
SUMMARY:PaRDeS Education Comm
DESCRIPTION:Jewish Federation of Central Massachusetts\nCalendar\nhttps://j
 ewishcentralmass.org/calendar/pardes-education-comm\n\nPaRDeS Education Co
 mm
DTSTART;TZID=America/New_York:20130211T190000
DTEND;TZID=America/New_York:20130211T193000
END:VEVENT
END:VCALENDAR
