BEGIN:VCALENDAR
PRODID:-//eluceo/ical//2.0/EN
VERSION:2.0
CALSCALE:GREGORIAN
BEGIN:VEVENT
UID:48ce85fe4466fc18cdb1001e22e3184a
DTSTAMP:20260421T184603Z
SUMMARY:Pardes 1st day of Hebrew School
DESCRIPTION:Jewish Federation of Central Massachusetts\nCalendar\nhttps://j
 ewishcentralmass.org/calendar/pardes-1st-day-of-hebrew-school\n\nPardes 1s
 t day of school
DTSTART;TZID=America/New_York:20131002T000000
DTEND;TZID=America/New_York:20131002T235900
END:VEVENT
END:VCALENDAR
