BEGIN:VCALENDAR
PRODID:-//eluceo/ical//2.0/EN
VERSION:2.0
CALSCALE:GREGORIAN
BEGIN:VEVENT
UID:337316b9c3395b05f6fe0c8ee3f8fd44
DTSTAMP:20260422T105433Z
SUMMARY:ORT Speaker
DESCRIPTION:Jewish Federation of Central Massachusetts\nCalendar\nhttps://j
 ewishcentralmass.org/calendar/ort-speaker\n\nFebruary 19\n\nORT Speaker\n\
 n7:00PM
DTSTART;TZID=America/New_York:20190219T190000
DTEND;TZID=America/New_York:20190219T210000
END:VEVENT
END:VCALENDAR
