BEGIN:VCALENDAR
PRODID:-//eluceo/ical//2.0/EN
VERSION:2.0
CALSCALE:GREGORIAN
BEGIN:VEVENT
UID:7a3b75ea8d73477b90e1f1dfb5e4501a
DTSTAMP:20260423T031251Z
SUMMARY:ORT
DESCRIPTION:Jewish Federation of Central Massachusetts\nCalendar\nhttps://j
 ewishcentralmass.org/calendar/ort\n\nORT - \n\nLocation TBD
DTSTART;TZID=America/New_York:20220120T193000
DTEND;TZID=America/New_York:20220120T213000
END:VEVENT
END:VCALENDAR
