BEGIN:VCALENDAR
PRODID:-//eluceo/ical//2.0/EN
VERSION:2.0
CALSCALE:GREGORIAN
BEGIN:VEVENT
UID:26e2960eb317439bf54955e1787fc84b
DTSTAMP:20260423T030743Z
SUMMARY:Online Security Training: BeAware
DESCRIPTION:Jewish Federation of Central Massachusetts\nCalendar\nhttps://j
 ewishcentralmass.org/calendar/online-security-training-beaware\n\nOnline S
 ecurity Training: BeAware - click here to register.\n\nApril 27 at 2pm\n\n
  
DTSTART;TZID=America/New_York:20220427T140000
DTEND;TZID=America/New_York:20220427T160000
END:VEVENT
END:VCALENDAR
