BEGIN:VCALENDAR
PRODID:-//eluceo/ical//2.0/EN
VERSION:2.0
CALSCALE:GREGORIAN
BEGIN:VEVENT
UID:406d3538bf499db90fea883ebe2f445b
DTSTAMP:20260421T165727Z
SUMMARY:Oct. 8 Film & Discussion Community Program
DESCRIPTION:Jewish Federation of Central Massachusetts\nCalendar\nhttps://j
 ewishcentralmass.org/calendar/oct-8-film-discussion-community-program\n\nA
 pril 23 at JCC\n\n6:30 pm\n\nOct. 8 Film &  Discussion Community Program
  sponsored by Federation and BI.
DTSTART;TZID=America/New_York:20250423T183000
DTEND;TZID=America/New_York:20250423T210000
END:VEVENT
END:VCALENDAR
