BEGIN:VCALENDAR
PRODID:-//eluceo/ical//2.0/EN
VERSION:2.0
CALSCALE:GREGORIAN
BEGIN:VEVENT
UID:73bc075159b44d98d13f8427a9f93206
DTSTAMP:20260422T204201Z
SUMMARY:Novelist Lauren Grodstein at Assumption
DESCRIPTION:Jewish Federation of Central Massachusetts\nCalendar\nhttps://j
 ewishcentralmass.org/calendar/novelist-lauren-grodstein-at-assumption\n\nN
 ovelist Lauren Grodstein\n\nTuesday\, March 17th at 7:30 pm\n\nAssumption 
 University\, Curtis Performance Hall
DTSTART;TZID=America/New_York:20260317T193000
DTEND;TZID=America/New_York:20260317T213000
END:VEVENT
END:VCALENDAR
