BEGIN:VCALENDAR
PRODID:-//eluceo/ical//2.0/EN
VERSION:2.0
CALSCALE:GREGORIAN
BEGIN:VEVENT
UID:cf785e33f9193a66852d76d90b1d4941
DTSTAMP:20260420T190150Z
SUMMARY:MWJDS Virtual Open House with PJ/PJOW
DESCRIPTION:Jewish Federation of Central Massachusetts\nCalendar\nhttps://j
 ewishcentralmass.org/calendar/mwjds-virtual-open-house-with-pjpjow\n\nOcto
 ber 27th\, 7:30 pm\n\nMWJDS Virtual Open House with PJ/PJOW 
DTSTART;TZID=America/New_York:20211027T193000
DTEND;TZID=America/New_York:20211027T210000
END:VEVENT
END:VCALENDAR
