BEGIN:VCALENDAR
PRODID:-//eluceo/ical//2.0/EN
VERSION:2.0
CALSCALE:GREGORIAN
BEGIN:VEVENT
UID:057b9a639b8b3588b0bb2b3a5bf89b3b
DTSTAMP:20260421T134306Z
SUMMARY:Musical and Contemplative Selichot Service
DESCRIPTION:Jewish Federation of Central Massachusetts\nCalendar\nhttps://j
 ewishcentralmass.org/calendar/musical-and-contemplative-selichot-service\n
 \nMusical and Contemplative Selichot Service\n\nSaturday\, September 24 at
  8:00pm\n\nEnter into this High Holiday Season through the beautiful melod
 ies and prayers of east and west\, past and present in this creative music
 al service. Special guest musicians and vocalists Lisa Lipkin and Jay Hitt
  will join Rabba Kaya Stern-Kaufman for this special service.
DTSTART;TZID=America/New_York:20160924T200000
DTEND;TZID=America/New_York:20160924T220000
END:VEVENT
END:VCALENDAR
