BEGIN:VCALENDAR
PRODID:-//eluceo/ical//2.0/EN
VERSION:2.0
CALSCALE:GREGORIAN
BEGIN:VEVENT
UID:3fdc1818ee325b94c14491979604a2ea
DTSTAMP:20260423T110824Z
SUMMARY:Music Worcester: Jerusalem Orchestra
DESCRIPTION:Jewish Federation of Central Massachusetts\nCalendar\nhttps://j
 ewishcentralmass.org/calendar/music-worcester-jerusalem-orchestra\n\nMusic
  Worcester: Jerusalem Orchestra
DTSTART;TZID=America/New_York:20160315T193000
DTEND;TZID=America/New_York:20160315T220000
END:VEVENT
END:VCALENDAR
