BEGIN:VCALENDAR
PRODID:-//eluceo/ical//2.0/EN
VERSION:2.0
CALSCALE:GREGORIAN
BEGIN:VEVENT
UID:d716574bddce93b0490503a9a606e689
DTSTAMP:20260421T191318Z
SUMMARY:Multi-Generational Krav Maga
DESCRIPTION:Jewish Federation of Central Massachusetts\nCalendar\nhttps://j
 ewishcentralmass.org/calendar/multi-generational-krav-maga\n\nSunday\, Jan
 uary 5th\, 3-4:30 pm \n\nMulti-Generational Krav Maga\, Shrewsbury
DTSTART;TZID=America/New_York:20250105T150000
DTEND;TZID=America/New_York:20250105T163000
END:VEVENT
END:VCALENDAR
