BEGIN:VCALENDAR
PRODID:-//eluceo/ical//2.0/EN
VERSION:2.0
CALSCALE:GREGORIAN
BEGIN:VEVENT
UID:075fc78b3a54c7d52e18bf64fcefa72b
DTSTAMP:20260422T020541Z
SUMMARY:Movie and Pizza\, Lead\, Chaverim
DESCRIPTION:Jewish Federation of Central Massachusetts\nCalendar\nhttps://j
 ewishcentralmass.org/calendar/movie-and-pizza-lead-chaverim\n\nMarch 18th 
 - Doors open at 7:30 pm\; Movie starts at 8:00 pm\n\nMovie and Pizza\, Lea
 d\, Chaverim\n\nfilm program: Au Revoir Les Enfants
DTSTART;TZID=America/New_York:20230318T193000
DTEND;TZID=America/New_York:20230318T220000
END:VEVENT
END:VCALENDAR
