BEGIN:VCALENDAR
PRODID:-//eluceo/ical//2.0/EN
VERSION:2.0
CALSCALE:GREGORIAN
BEGIN:VEVENT
UID:db5c80c157b5135d28edcc97c426cc41
DTSTAMP:20260426T022415Z
SUMMARY:Mother's Day_
DESCRIPTION:Jewish Federation of Central Massachusetts\nCalendar\nhttps://j
 ewishcentralmass.org/calendar/mothers-day_\n\nMother's Day
DTSTART;TZID=America/New_York:20250511T000000
DTEND;TZID=America/New_York:20250511T235959
END:VEVENT
END:VCALENDAR
