BEGIN:VCALENDAR
PRODID:-//eluceo/ical//2.0/EN
VERSION:2.0
CALSCALE:GREGORIAN
BEGIN:VEVENT
UID:0b9765b5d28b06b2b5762fa9d51eec19
DTSTAMP:20260423T194752Z
SUMMARY:MOTHERS DAY
DESCRIPTION:Jewish Federation of Central Massachusetts\nCalendar\nhttps://j
 ewishcentralmass.org/calendar/mothers-day\n\nMOTHERS DAY
DTSTART;TZID=America/New_York:20130512T000000
DTEND;TZID=America/New_York:20130512T235900
END:VEVENT
END:VCALENDAR
