BEGIN:VCALENDAR
PRODID:-//eluceo/ical//2.0/EN
VERSION:2.0
CALSCALE:GREGORIAN
BEGIN:VEVENT
UID:a32ead57a137d053cf64934a31d3c8c2
DTSTAMP:20260422T223733Z
SUMMARY:Mommy\, Daddy and Me! PJ Library
DESCRIPTION:Jewish Federation of Central Massachusetts\nCalendar\nhttps://j
 ewishcentralmass.org/calendar/mommy-daddy-and-me-pj-library_March\n\nMommy
 \, Daddy and Me! PJ Library
DTSTART;TZID=America/New_York:20160320T090000
DTEND;TZID=America/New_York:20160320T103000
END:VEVENT
END:VCALENDAR
