BEGIN:VCALENDAR
PRODID:-//eluceo/ical//2.0/EN
VERSION:2.0
CALSCALE:GREGORIAN
BEGIN:VEVENT
UID:ed4ed698ddee557ccc8c1edfc2cdbe9f
DTSTAMP:20260423T074700Z
SUMMARY:Mommy\, Daddy and Me! PJ Library
DESCRIPTION:Jewish Federation of Central Massachusetts\nCalendar\nhttps://j
 ewishcentralmass.org/calendar/mommy-daddy-and-me-pj-library_Jan\n\nMommy\,
  Daddy and Me! PJ Library
DTSTART;TZID=America/New_York:20160110T090000
DTEND;TZID=America/New_York:20160110T103000
END:VEVENT
END:VCALENDAR
