BEGIN:VCALENDAR
PRODID:-//eluceo/ical//2.0/EN
VERSION:2.0
CALSCALE:GREGORIAN
BEGIN:VEVENT
UID:c043bdeff806ac70e3f6f1129d00a40c
DTSTAMP:20260423T105904Z
SUMMARY:Mommy\, Daddy and Me! PJ Library
DESCRIPTION:Jewish Federation of Central Massachusetts\nCalendar\nhttps://j
 ewishcentralmass.org/calendar/mommy-daddy-and-me-pj-library_Feb\n\nMommy\,
  Daddy and Me! PJ Library
DTSTART;TZID=America/New_York:20160207T090000
DTEND;TZID=America/New_York:20160207T103000
END:VEVENT
END:VCALENDAR
