BEGIN:VCALENDAR
PRODID:-//eluceo/ical//2.0/EN
VERSION:2.0
CALSCALE:GREGORIAN
BEGIN:VEVENT
UID:c9391a47c36dca0cf7e82887e3a52f94
DTSTAMP:20260422T074728Z
SUMMARY:Mommy\, Daddy and Me! PJ Library
DESCRIPTION:Jewish Federation of Central Massachusetts\nCalendar\nhttps://j
 ewishcentralmass.org/calendar/mommy-daddy-and-me-pj-library_April\n\nMommy
 \, Daddy and Me! PJ Library
DTSTART;TZID=America/New_York:20160410T090000
DTEND;TZID=America/New_York:20160410T103000
END:VEVENT
END:VCALENDAR
