BEGIN:VCALENDAR
PRODID:-//eluceo/ical//2.0/EN
VERSION:2.0
CALSCALE:GREGORIAN
BEGIN:VEVENT
UID:38815f96ad5117ba329792bc09814548
DTSTAMP:20260423T013228Z
SUMMARY:MLK Breakfast at QCC 2025
DESCRIPTION:Jewish Federation of Central Massachusetts\nCalendar\nhttps://j
 ewishcentralmass.org/calendar/mlk-breakfast-at-qcc-2025\n\nMLK Breakfast a
 t QCC\n\n7:30 am
DTSTART;TZID=America/New_York:20250120T073000
DTEND;TZID=America/New_York:20250120T093000
END:VEVENT
END:VCALENDAR
