BEGIN:VCALENDAR
PRODID:-//eluceo/ical//2.0/EN
VERSION:2.0
CALSCALE:GREGORIAN
BEGIN:VEVENT
UID:db5b810f07e8389b702930abacb79ee6
DTSTAMP:20260423T041333Z
SUMMARY:Mission To Israel Zoom meeting
DESCRIPTION:Jewish Federation of Central Massachusetts\nCalendar\nhttps://j
 ewishcentralmass.org/calendar/mission-to-israel-zoom-meeting\n\nMission To
  Israel Zoom meeting\n\nMarch 4th\, 6:30 pm
DTSTART;TZID=America/New_York:20240304T183000
DTEND;TZID=America/New_York:20240304T203000
END:VEVENT
END:VCALENDAR
