BEGIN:VCALENDAR
PRODID:-//eluceo/ical//2.0/EN
VERSION:2.0
CALSCALE:GREGORIAN
BEGIN:VEVENT
UID:65bd4950244846c1b31c2181a7952ecb
DTSTAMP:20260423T021042Z
SUMMARY:Mini Minyan Playgroup - 9/25
DESCRIPTION:Jewish Federation of Central Massachusetts\nCalendar\nhttps://j
 ewishcentralmass.org/calendar/mini-minyan-playgroup-925\n\nMini Minyan Pla
 ygroup ~ a PJ Library Program\n\nSunday Mornings 9:30 - 11:00 am\n\nCome 
 join our informal playgroup for parents and their children!
DTSTART;TZID=America/New_York:20160925T093000
DTEND;TZID=America/New_York:20160925T110000
END:VEVENT
END:VCALENDAR
