BEGIN:VCALENDAR
PRODID:-//eluceo/ical//2.0/EN
VERSION:2.0
CALSCALE:GREGORIAN
BEGIN:VEVENT
UID:4b42a42b151c247be1b9d466a051d285
DTSTAMP:20260421T223411Z
SUMMARY:Mini Minyan Playgroup - 5/7
DESCRIPTION:Jewish Federation of Central Massachusetts\nCalendar\nhttps://j
 ewishcentralmass.org/calendar/mini-minyan-playgroup-57\n\nMini Minyan Play
 group ~ a PJ Library Program\n\nSunday Mornings 9:30 - 11:00 am\n\nCome j
 oin our informal playgroup for parents and their children!
DTSTART;TZID=America/New_York:20170507T093000
DTEND;TZID=America/New_York:20170507T110000
END:VEVENT
END:VCALENDAR
