BEGIN:VCALENDAR
PRODID:-//eluceo/ical//2.0/EN
VERSION:2.0
CALSCALE:GREGORIAN
BEGIN:VEVENT
UID:9ead55cf3b1ce5c6fd242dff8576f074
DTSTAMP:20260422T064202Z
SUMMARY:Mini Minyan Playgroup - 2/12
DESCRIPTION:Jewish Federation of Central Massachusetts\nCalendar\nhttps://j
 ewishcentralmass.org/calendar/mini-minyan-playgroup-212\n\nMini Minyan Pla
 ygroup ~ a PJ Library Program\n\nSunday Mornings 9:30 - 11:00 am\n\nCome 
 join our informal playgroup for parents and their children!
DTSTART;TZID=America/New_York:20170212T093000
DTEND;TZID=America/New_York:20170212T110000
END:VEVENT
END:VCALENDAR
