BEGIN:VCALENDAR
PRODID:-//eluceo/ical//2.0/EN
VERSION:2.0
CALSCALE:GREGORIAN
BEGIN:VEVENT
UID:9ed9a6bf92bb4a50ffaf3e73d14af478
DTSTAMP:20260422T224522Z
SUMMARY:Mini Minyan Playgroup - 1/8
DESCRIPTION:Jewish Federation of Central Massachusetts\nCalendar\nhttps://j
 ewishcentralmass.org/calendar/mini-minyan-playgroup-18\n\nMini Minyan Play
 group ~ a PJ Library Program\n\nSunday Mornings 9:30 - 11:00 am\n\nCome j
 oin our informal playgroup for parents and their children!
DTSTART;TZID=America/New_York:20170108T093000
DTEND;TZID=America/New_York:20170108T110000
END:VEVENT
END:VCALENDAR
