BEGIN:VCALENDAR
PRODID:-//eluceo/ical//2.0/EN
VERSION:2.0
CALSCALE:GREGORIAN
BEGIN:VEVENT
UID:ee45ffdf456826b506a43a6eb10bfe55
DTSTAMP:20260422T064327Z
SUMMARY:Mini Minyan Playgroup - 10/30
DESCRIPTION:Jewish Federation of Central Massachusetts\nCalendar\nhttps://j
 ewishcentralmass.org/calendar/mini-minyan-playgroup-1030\n\nMini Minyan Pl
 aygroup ~ a PJ Library Program\n\nSunday Mornings 9:30 - 11:00 am\n\nCome
  join our informal playgroup for parents and their children!
DTSTART;TZID=America/New_York:20161030T093000
DTEND;TZID=America/New_York:20161030T110000
END:VEVENT
END:VCALENDAR
