BEGIN:VCALENDAR
PRODID:-//eluceo/ical//2.0/EN
VERSION:2.0
CALSCALE:GREGORIAN
BEGIN:VEVENT
UID:72e6ef6025f201926f5750722461b941
DTSTAMP:20260424T102630Z
SUMMARY:Mini Minyan Playgroup - 10/16
DESCRIPTION:Jewish Federation of Central Massachusetts\nCalendar\nhttps://j
 ewishcentralmass.org/calendar/mini-minyan-playgroup-1016\n\nMini Minyan Pl
 aygroup ~ a PJ Library Program\n\nSunday Mornings 9:30 - 11:00 am\n\nCome
  join our informal playgroup for parents and their children!
DTSTART;TZID=America/New_York:20161016T093000
DTEND;TZID=America/New_York:20161016T110000
END:VEVENT
END:VCALENDAR
