BEGIN:VCALENDAR
PRODID:-//eluceo/ical//2.0/EN
VERSION:2.0
CALSCALE:GREGORIAN
BEGIN:VEVENT
UID:026666b3f466fbf9ef4a18492a8c2df3
DTSTAMP:20260423T025142Z
SUMMARY:Mindfulness with Elena at BI
DESCRIPTION:Jewish Federation of Central Massachusetts\nCalendar\nhttps://j
 ewishcentralmass.org/calendar/mindfulness-with-elena-at-bi\n\nMindfulness 
 with Elena at BI\n\n5:00pm
DTSTART;TZID=America/New_York:20200511T170000
DTEND;TZID=America/New_York:20200511T190000
END:VEVENT
END:VCALENDAR
