BEGIN:VCALENDAR
PRODID:-//eluceo/ical//2.0/EN
VERSION:2.0
CALSCALE:GREGORIAN
BEGIN:VEVENT
UID:6805aaf66ee900315e2795b058545647
DTSTAMP:20260422T034752Z
SUMMARY:Mindful Aging: A First Look
DESCRIPTION:Jewish Federation of Central Massachusetts\nCalendar\nhttps://j
 ewishcentralmass.org/calendar/mindful-aging-a-first-look\n\nMindful Aging:
  A First Look\n\nSunday\, March 19\, 2017\n\n10-12 at Temple Emanuel Sinai
 \n\n \n\n 
DTSTART;TZID=America/New_York:20170319T100000
DTEND;TZID=America/New_York:20170319T120000
END:VEVENT
END:VCALENDAR
